BEGIN:VCALENDAR
VERSION:2.0
PRODID:-//NoHowest.org - ECPv6.15.16//NONSGML v1.0//EN
CALSCALE:GREGORIAN
METHOD:PUBLISH
X-ORIGINAL-URL:https://nohowest.org
X-WR-CALDESC:Events for NoHowest.org
REFRESH-INTERVAL;VALUE=DURATION:PT1H
X-Robots-Tag:noindex
X-PUBLISHED-TTL:PT1H
BEGIN:VTIMEZONE
TZID:America/Los_Angeles
BEGIN:DAYLIGHT
TZOFFSETFROM:-0800
TZOFFSETTO:-0700
TZNAME:PDT
DTSTART:20150308T100000
END:DAYLIGHT
BEGIN:STANDARD
TZOFFSETFROM:-0700
TZOFFSETTO:-0800
TZNAME:PST
DTSTART:20151101T090000
END:STANDARD
BEGIN:DAYLIGHT
TZOFFSETFROM:-0800
TZOFFSETTO:-0700
TZNAME:PDT
DTSTART:20160313T100000
END:DAYLIGHT
BEGIN:STANDARD
TZOFFSETFROM:-0700
TZOFFSETTO:-0800
TZNAME:PST
DTSTART:20161106T090000
END:STANDARD
BEGIN:DAYLIGHT
TZOFFSETFROM:-0800
TZOFFSETTO:-0700
TZNAME:PDT
DTSTART:20170312T100000
END:DAYLIGHT
BEGIN:STANDARD
TZOFFSETFROM:-0700
TZOFFSETTO:-0800
TZNAME:PST
DTSTART:20171105T090000
END:STANDARD
BEGIN:DAYLIGHT
TZOFFSETFROM:-0800
TZOFFSETTO:-0700
TZNAME:PDT
DTSTART:20180311T100000
END:DAYLIGHT
BEGIN:STANDARD
TZOFFSETFROM:-0700
TZOFFSETTO:-0800
TZNAME:PST
DTSTART:20181104T090000
END:STANDARD
BEGIN:DAYLIGHT
TZOFFSETFROM:-0800
TZOFFSETTO:-0700
TZNAME:PDT
DTSTART:20190310T100000
END:DAYLIGHT
BEGIN:STANDARD
TZOFFSETFROM:-0700
TZOFFSETTO:-0800
TZNAME:PST
DTSTART:20191103T090000
END:STANDARD
BEGIN:DAYLIGHT
TZOFFSETFROM:-0800
TZOFFSETTO:-0700
TZNAME:PDT
DTSTART:20200308T100000
END:DAYLIGHT
BEGIN:STANDARD
TZOFFSETFROM:-0700
TZOFFSETTO:-0800
TZNAME:PST
DTSTART:20201101T090000
END:STANDARD
BEGIN:DAYLIGHT
TZOFFSETFROM:-0800
TZOFFSETTO:-0700
TZNAME:PDT
DTSTART:20210314T100000
END:DAYLIGHT
BEGIN:STANDARD
TZOFFSETFROM:-0700
TZOFFSETTO:-0800
TZNAME:PST
DTSTART:20211107T090000
END:STANDARD
BEGIN:DAYLIGHT
TZOFFSETFROM:-0800
TZOFFSETTO:-0700
TZNAME:PDT
DTSTART:20220313T100000
END:DAYLIGHT
BEGIN:STANDARD
TZOFFSETFROM:-0700
TZOFFSETTO:-0800
TZNAME:PST
DTSTART:20221106T090000
END:STANDARD
BEGIN:DAYLIGHT
TZOFFSETFROM:-0800
TZOFFSETTO:-0700
TZNAME:PDT
DTSTART:20230312T100000
END:DAYLIGHT
BEGIN:STANDARD
TZOFFSETFROM:-0700
TZOFFSETTO:-0800
TZNAME:PST
DTSTART:20231105T090000
END:STANDARD
END:VTIMEZONE
BEGIN:VEVENT
DTSTART;TZID=America/Los_Angeles:20221015T100000
DTEND;TZID=America/Los_Angeles:20221015T120000
DTSTAMP:20260424T015145
CREATED:20221006T175228Z
LAST-MODIFIED:20221006T175228Z
UID:12774-1665828000-1665835200@nohowest.org
SUMMARY:Domestic Violence Panel Discussion
DESCRIPTION:
URL:https://nohowest.org/calendar/domestic-violence-panel-discussion/
LOCATION:Van Nuys State Building Auditorium\, 6150 Van Nuys Blvd\, Van Nuys\, 91401
CATEGORIES:Community Events
GEO:34.1820863;-118.448131
X-APPLE-STRUCTURED-LOCATION;VALUE=URI;X-ADDRESS=Van Nuys State Building Auditorium 6150 Van Nuys Blvd Van Nuys 91401;X-APPLE-RADIUS=500;X-TITLE=6150 Van Nuys Blvd:geo:-118.448131,34.1820863
END:VEVENT
BEGIN:VEVENT
DTSTART;TZID=America/Los_Angeles:20171010T170000
DTEND;TZID=America/Los_Angeles:20171010T203000
DTSTAMP:20260424T015145
CREATED:20171003T221458Z
LAST-MODIFIED:20171003T221458Z
UID:6795-1507654800-1507667400@nohowest.org
SUMMARY:East San Fernando Valley Transit Corridor Public Hearing
DESCRIPTION:The East San Fernando Valley Transit Corridor Project draft EIR in under a public review and comment period regarding Locally Preferred Alternatives by October 30\, 2017. The transit project will be connecting the orange line Van Nuys Blvd Station to San Fernando / Sylmar Metrolink Station. Here is a link to a map of the proposed route.\n\nPublic comments on the draft EIR can be emailed to eastsfvtransit@metro.net\, or fill out the comment form at https://www.metro.net/projects/east-sfv/. \n \nThe next public hearing held will be on October 10\, 2017\, 5-8:30pm \nVan Nuys State Building Auditorium\n6150 Van Nuys Blvd\nVan Nuys\, CA 91401 \n\nGeneral Plan Update – Open Space and Community + Culture Element meetings\n\n\nSaturday\, October 7\, 2017 – 10 a.m. – Noon at Van Nuys Civic Center\, Community Rooms 1A and 1B\, 14410 Sylvan Street\, Van Nuys\, CA 91401 \nSaturday\, October 21\, 2017 – 10 a.m. – Noon at West Angeles Senior Villas\, Community Room\, 6030 Crenshaw Boulevard\, Los Angeles\, CA 90043 \nWednesday\, October 25\, 2017 6:00 – 8:00 p.m. at Emerson College\, Assembly Room\, 5960 Sunset Boulevard Los Angeles\, CA 90028
URL:https://nohowest.org/calendar/east-san-fernando-valley-transit-corridor-public-hearing/
LOCATION:Van Nuys State Building Auditorium\, 6150 Van Nuys Blvd\, Van Nuys\, 91401
CATEGORIES:Community Events
GEO:34.1820863;-118.448131
X-APPLE-STRUCTURED-LOCATION;VALUE=URI;X-ADDRESS=Van Nuys State Building Auditorium 6150 Van Nuys Blvd Van Nuys 91401;X-APPLE-RADIUS=500;X-TITLE=6150 Van Nuys Blvd:geo:-118.448131,34.1820863
END:VEVENT
BEGIN:VEVENT
DTSTART;TZID=America/Los_Angeles:20161110T100000
DTEND;TZID=America/Los_Angeles:20161110T113000
DTSTAMP:20260424T015145
CREATED:20160924T011611Z
LAST-MODIFIED:20160924T011716Z
UID:5732-1478772000-1478777400@nohowest.org
SUMMARY:Strategies for Life Chapter II: Finding Your Inner Strength
DESCRIPTION:Learn how to connect with your inner strength through art. Develop the skills to gain a new sense of self. \nPresented by Sherry Winston\, LMFT\, Executive Director\, The Center for Individual and Family Counseling. \nBrought to you by Assemblymember Adrin Nazarian \nRSVP Dora.Esparza@asm.ca.gov or 818-376-4246
URL:https://nohowest.org/calendar/strategies-for-life-chapter-ii-finding-your-inner-strength/
LOCATION:Van Nuys State Building Auditorium\, 6150 Van Nuys Blvd\, Van Nuys\, 91401
CATEGORIES:Community Events
GEO:34.1820863;-118.448131
X-APPLE-STRUCTURED-LOCATION;VALUE=URI;X-ADDRESS=Van Nuys State Building Auditorium 6150 Van Nuys Blvd Van Nuys 91401;X-APPLE-RADIUS=500;X-TITLE=6150 Van Nuys Blvd:geo:-118.448131,34.1820863
END:VEVENT
END:VCALENDAR