BEGIN:VCALENDAR
VERSION:2.0
PRODID:-//NoHowest.org - ECPv6.15.16//NONSGML v1.0//EN
CALSCALE:GREGORIAN
METHOD:PUBLISH
X-ORIGINAL-URL:https://nohowest.org
X-WR-CALDESC:Events for NoHowest.org
REFRESH-INTERVAL;VALUE=DURATION:PT1H
X-Robots-Tag:noindex
X-PUBLISHED-TTL:PT1H
BEGIN:VTIMEZONE
TZID:America/Los_Angeles
BEGIN:DAYLIGHT
TZOFFSETFROM:-0800
TZOFFSETTO:-0700
TZNAME:PDT
DTSTART:20190310T100000
END:DAYLIGHT
BEGIN:STANDARD
TZOFFSETFROM:-0700
TZOFFSETTO:-0800
TZNAME:PST
DTSTART:20191103T090000
END:STANDARD
BEGIN:DAYLIGHT
TZOFFSETFROM:-0800
TZOFFSETTO:-0700
TZNAME:PDT
DTSTART:20200308T100000
END:DAYLIGHT
BEGIN:STANDARD
TZOFFSETFROM:-0700
TZOFFSETTO:-0800
TZNAME:PST
DTSTART:20201101T090000
END:STANDARD
BEGIN:DAYLIGHT
TZOFFSETFROM:-0800
TZOFFSETTO:-0700
TZNAME:PDT
DTSTART:20210314T100000
END:DAYLIGHT
BEGIN:STANDARD
TZOFFSETFROM:-0700
TZOFFSETTO:-0800
TZNAME:PST
DTSTART:20211107T090000
END:STANDARD
END:VTIMEZONE
BEGIN:VEVENT
DTSTART;TZID=America/Los_Angeles:20200620T120000
DTEND;TZID=America/Los_Angeles:20200620T130000
DTSTAMP:20260424T084229
CREATED:20200528T183449Z
LAST-MODIFIED:20200528T183449Z
UID:9299-1592654400-1592658000@nohowest.org
SUMMARY:Grocery Grab & Go
DESCRIPTION:Victory Outreach North Hollywood is hosting another Grocery Grab & Go\, for the first 200 people/families. CDC safety guidelines will be followed. For more information\, please visit www.vonorthhollywood.org.
URL:https://nohowest.org/calendar/grocery-grab-go-2/
LOCATION:Victory Outreach\, 6215 Laurel Canyon Blvd\, North Hollywood
CATEGORIES:Community Events
GEO:34.1833936;-118.3967773
X-APPLE-STRUCTURED-LOCATION;VALUE=URI;X-ADDRESS=Victory Outreach 6215 Laurel Canyon Blvd North Hollywood;X-APPLE-RADIUS=500;X-TITLE=6215 Laurel Canyon Blvd:geo:-118.3967773,34.1833936
END:VEVENT
BEGIN:VEVENT
DTSTART;TZID=America/Los_Angeles:20200502T120000
DTEND;TZID=America/Los_Angeles:20200502T140000
DTSTAMP:20260424T084229
CREATED:20200424T184925Z
LAST-MODIFIED:20200424T184925Z
UID:9192-1588420800-1588428000@nohowest.org
SUMMARY:Grocery Grab & Go
DESCRIPTION:Victory Outreach is hosting a Grocery Grab & Go for the first 200 people/families on Saturday\, May 2 at noon.
URL:https://nohowest.org/calendar/grocery-grab-go/
LOCATION:Victory Outreach\, 6215 Laurel Canyon Blvd\, North Hollywood
CATEGORIES:Community Events
GEO:34.1833936;-118.3967773
X-APPLE-STRUCTURED-LOCATION;VALUE=URI;X-ADDRESS=Victory Outreach 6215 Laurel Canyon Blvd North Hollywood;X-APPLE-RADIUS=500;X-TITLE=6215 Laurel Canyon Blvd:geo:-118.3967773,34.1833936
END:VEVENT
END:VCALENDAR