BEGIN:VCALENDAR
VERSION:2.0
PRODID:-//NoHowest.org - ECPv6.15.16//NONSGML v1.0//EN
CALSCALE:GREGORIAN
METHOD:PUBLISH
X-WR-CALNAME:NoHowest.org
X-ORIGINAL-URL:https://nohowest.org
X-WR-CALDESC:Events for NoHowest.org
REFRESH-INTERVAL;VALUE=DURATION:PT1H
X-Robots-Tag:noindex
X-PUBLISHED-TTL:PT1H
BEGIN:VTIMEZONE
TZID:America/Los_Angeles
BEGIN:DAYLIGHT
TZOFFSETFROM:-0800
TZOFFSETTO:-0700
TZNAME:PDT
DTSTART:20140309T100000
END:DAYLIGHT
BEGIN:STANDARD
TZOFFSETFROM:-0700
TZOFFSETTO:-0800
TZNAME:PST
DTSTART:20141102T090000
END:STANDARD
BEGIN:DAYLIGHT
TZOFFSETFROM:-0800
TZOFFSETTO:-0700
TZNAME:PDT
DTSTART:20150308T100000
END:DAYLIGHT
BEGIN:STANDARD
TZOFFSETFROM:-0700
TZOFFSETTO:-0800
TZNAME:PST
DTSTART:20151101T090000
END:STANDARD
BEGIN:DAYLIGHT
TZOFFSETFROM:-0800
TZOFFSETTO:-0700
TZNAME:PDT
DTSTART:20160313T100000
END:DAYLIGHT
BEGIN:STANDARD
TZOFFSETFROM:-0700
TZOFFSETTO:-0800
TZNAME:PST
DTSTART:20161106T090000
END:STANDARD
BEGIN:DAYLIGHT
TZOFFSETFROM:-0800
TZOFFSETTO:-0700
TZNAME:PDT
DTSTART:20170312T100000
END:DAYLIGHT
BEGIN:STANDARD
TZOFFSETFROM:-0700
TZOFFSETTO:-0800
TZNAME:PST
DTSTART:20171105T090000
END:STANDARD
BEGIN:DAYLIGHT
TZOFFSETFROM:-0800
TZOFFSETTO:-0700
TZNAME:PDT
DTSTART:20180311T100000
END:DAYLIGHT
BEGIN:STANDARD
TZOFFSETFROM:-0700
TZOFFSETTO:-0800
TZNAME:PST
DTSTART:20181104T090000
END:STANDARD
BEGIN:DAYLIGHT
TZOFFSETFROM:-0800
TZOFFSETTO:-0700
TZNAME:PDT
DTSTART:20190310T100000
END:DAYLIGHT
BEGIN:STANDARD
TZOFFSETFROM:-0700
TZOFFSETTO:-0800
TZNAME:PST
DTSTART:20191103T090000
END:STANDARD
BEGIN:DAYLIGHT
TZOFFSETFROM:-0800
TZOFFSETTO:-0700
TZNAME:PDT
DTSTART:20200308T100000
END:DAYLIGHT
BEGIN:STANDARD
TZOFFSETFROM:-0700
TZOFFSETTO:-0800
TZNAME:PST
DTSTART:20201101T090000
END:STANDARD
BEGIN:DAYLIGHT
TZOFFSETFROM:-0800
TZOFFSETTO:-0700
TZNAME:PDT
DTSTART:20210314T100000
END:DAYLIGHT
BEGIN:STANDARD
TZOFFSETFROM:-0700
TZOFFSETTO:-0800
TZNAME:PST
DTSTART:20211107T090000
END:STANDARD
BEGIN:DAYLIGHT
TZOFFSETFROM:-0800
TZOFFSETTO:-0700
TZNAME:PDT
DTSTART:20220313T100000
END:DAYLIGHT
BEGIN:STANDARD
TZOFFSETFROM:-0700
TZOFFSETTO:-0800
TZNAME:PST
DTSTART:20221106T090000
END:STANDARD
END:VTIMEZONE
BEGIN:VEVENT
DTSTART;TZID=America/Los_Angeles:20211218T120000
DTEND;TZID=America/Los_Angeles:20211218T133000
DTSTAMP:20260423T193739
CREATED:20211216T231547Z
LAST-MODIFIED:20211216T231547Z
UID:11174-1639828800-1639834200@nohowest.org
SUMMARY:Meet & Greet with Mike Feuer
DESCRIPTION:
URL:https://nohowest.org/calendar/meet-greet-with-mike-feuer/
LOCATION:Wat Thai Temple\, 8225 Coldwater Canyon\, North Hollywood\, CA\, 91605\, United States
CATEGORIES:Community Events
GEO:34.220578;-118.4147923
X-APPLE-STRUCTURED-LOCATION;VALUE=URI;X-ADDRESS=Wat Thai Temple 8225 Coldwater Canyon North Hollywood CA 91605 United States;X-APPLE-RADIUS=500;X-TITLE=8225 Coldwater Canyon:geo:-118.4147923,34.220578
END:VEVENT
BEGIN:VEVENT
DTSTART;TZID=America/Los_Angeles:20190724T190000
DTEND;TZID=America/Los_Angeles:20190724T210000
DTSTAMP:20260423T193739
CREATED:20181126T214058Z
LAST-MODIFIED:20190730T161006Z
UID:8438-1563994800-1564002000@nohowest.org
SUMMARY:NoHo West Board Meeting
DESCRIPTION:The Board meets the 4th Wednesday of the month\, 7pm \nJuly 24\, 2019 Agenda
URL:https://nohowest.org/calendar/noho-west-board-meeting-5-2019-03-27-2019-07-24/
LOCATION:Wat Thai Temple\, 8225 Coldwater Canyon\, North Hollywood\, CA\, 91605\, United States
CATEGORIES:General Board
GEO:34.220578;-118.4147923
X-APPLE-STRUCTURED-LOCATION;VALUE=URI;X-ADDRESS=Wat Thai Temple 8225 Coldwater Canyon North Hollywood CA 91605 United States;X-APPLE-RADIUS=500;X-TITLE=8225 Coldwater Canyon:geo:-118.4147923,34.220578
END:VEVENT
BEGIN:VEVENT
DTSTART;TZID=America/Los_Angeles:20190626T190000
DTEND;TZID=America/Los_Angeles:20190626T210000
DTSTAMP:20260423T193739
CREATED:20181126T214058Z
LAST-MODIFIED:20190624T175610Z
UID:8437-1561575600-1561582800@nohowest.org
SUMMARY:NoHo West Board Meeting
DESCRIPTION:Join us for our next NoHo West Meeting on Wednesday\, June 26\, 7pm at the Wat Thai Temple\, 8225 Coldwater Canyon Ave. \n\nSeat New Board Members and Appoint New Members\nAppoint Executive Board Members\nAppoint Committee Chairs\nPlan upcoming events: movie nights\, National Night Out\nContract for clean up of Whitsett slope\n\nJune 26\, 2019 Board Agenda
URL:https://nohowest.org/calendar/noho-west-board-meeting-5-2019-03-27-2019-06-26/
LOCATION:Wat Thai Temple\, 8225 Coldwater Canyon\, North Hollywood\, CA\, 91605\, United States
CATEGORIES:General Board
GEO:34.220578;-118.4147923
X-APPLE-STRUCTURED-LOCATION;VALUE=URI;X-ADDRESS=Wat Thai Temple 8225 Coldwater Canyon North Hollywood CA 91605 United States;X-APPLE-RADIUS=500;X-TITLE=8225 Coldwater Canyon:geo:-118.4147923,34.220578
END:VEVENT
BEGIN:VEVENT
DTSTART;TZID=America/Los_Angeles:20170326T130000
DTEND;TZID=America/Los_Angeles:20170326T150000
DTSTAMP:20260423T193739
CREATED:20170105T230200Z
LAST-MODIFIED:20170105T230200Z
UID:6025-1490533200-1490540400@nohowest.org
SUMMARY:LACMA Art Workshops in NoHo
DESCRIPTION:
URL:https://nohowest.org/calendar/lacma-art-workshops-in-noho-7/
LOCATION:Wat Thai Temple\, 8225 Coldwater Canyon\, North Hollywood\, CA\, 91605\, United States
CATEGORIES:Community Events
GEO:34.220578;-118.4147923
X-APPLE-STRUCTURED-LOCATION;VALUE=URI;X-ADDRESS=Wat Thai Temple 8225 Coldwater Canyon North Hollywood CA 91605 United States;X-APPLE-RADIUS=500;X-TITLE=8225 Coldwater Canyon:geo:-118.4147923,34.220578
END:VEVENT
BEGIN:VEVENT
DTSTART;TZID=America/Los_Angeles:20170129T130000
DTEND;TZID=America/Los_Angeles:20170129T150000
DTSTAMP:20260423T193739
CREATED:20170105T225841Z
LAST-MODIFIED:20170105T225841Z
UID:6019-1485694800-1485702000@nohowest.org
SUMMARY:LACMA Art Workshops in NoHo
DESCRIPTION:
URL:https://nohowest.org/calendar/lacma-art-workshops-in-noho-4/
LOCATION:Wat Thai Temple\, 8225 Coldwater Canyon\, North Hollywood\, CA\, 91605\, United States
CATEGORIES:Community Events
GEO:34.220578;-118.4147923
X-APPLE-STRUCTURED-LOCATION;VALUE=URI;X-ADDRESS=Wat Thai Temple 8225 Coldwater Canyon North Hollywood CA 91605 United States;X-APPLE-RADIUS=500;X-TITLE=8225 Coldwater Canyon:geo:-118.4147923,34.220578
END:VEVENT
BEGIN:VEVENT
DTSTART;TZID=America/Los_Angeles:20170125T103000
DTEND;TZID=America/Los_Angeles:20170125T130000
DTSTAMP:20260423T193739
CREATED:20160723T060424Z
LAST-MODIFIED:20170125T193427Z
UID:5626-1485340200-1485349200@nohowest.org
SUMMARY:NoHoWest Board Meeting Cancelled
DESCRIPTION:Meets monthly on the 4th Wednesday. \nThis meeting is cancelled for lack of quorum with board members sick or unavailable.
URL:https://nohowest.org/calendar/nohowest-board-meeting-10/
LOCATION:Wat Thai Temple\, 8225 Coldwater Canyon\, North Hollywood\, CA\, 91605\, United States
CATEGORIES:General Board
GEO:34.220578;-118.4147923
X-APPLE-STRUCTURED-LOCATION;VALUE=URI;X-ADDRESS=Wat Thai Temple 8225 Coldwater Canyon North Hollywood CA 91605 United States;X-APPLE-RADIUS=500;X-TITLE=8225 Coldwater Canyon:geo:-118.4147923,34.220578
END:VEVENT
BEGIN:VEVENT
DTSTART;TZID=America/Los_Angeles:20170117T103000
DTEND;TZID=America/Los_Angeles:20170117T130000
DTSTAMP:20260423T193739
CREATED:20151015T070135Z
LAST-MODIFIED:20170116T183439Z
UID:5615-1484649000-1484658000@nohowest.org
SUMMARY:Executive Committee Meeting-Cancelled
DESCRIPTION:Agenda
URL:https://nohowest.org/calendar/executive-committee-meeting-6-2016-05-09-2017-01-09/
LOCATION:Wat Thai Temple\, 8225 Coldwater Canyon\, North Hollywood\, CA\, 91605\, United States
CATEGORIES:Committee Meeting
GEO:34.220578;-118.4147923
X-APPLE-STRUCTURED-LOCATION;VALUE=URI;X-ADDRESS=Wat Thai Temple 8225 Coldwater Canyon North Hollywood CA 91605 United States;X-APPLE-RADIUS=500;X-TITLE=8225 Coldwater Canyon:geo:-118.4147923,34.220578
END:VEVENT
BEGIN:VEVENT
DTSTART;TZID=America/Los_Angeles:20161207T183000
DTEND;TZID=America/Los_Angeles:20161207T193000
DTSTAMP:20260423T193739
CREATED:20161206T010704Z
LAST-MODIFIED:20161206T010704Z
UID:5892-1481135400-1481139000@nohowest.org
SUMMARY:Special Board Meeting
DESCRIPTION:Agenda
URL:https://nohowest.org/calendar/special-board-meeting-3/
LOCATION:Wat Thai Temple\, 8225 Coldwater Canyon\, North Hollywood\, CA\, 91605\, United States
CATEGORIES:General Board
GEO:34.220578;-118.4147923
X-APPLE-STRUCTURED-LOCATION;VALUE=URI;X-ADDRESS=Wat Thai Temple 8225 Coldwater Canyon North Hollywood CA 91605 United States;X-APPLE-RADIUS=500;X-TITLE=8225 Coldwater Canyon:geo:-118.4147923,34.220578
END:VEVENT
BEGIN:VEVENT
DTSTART;TZID=America/Los_Angeles:20161116T103000
DTEND;TZID=America/Los_Angeles:20161116T130000
DTSTAMP:20260423T193739
CREATED:20160723T060037Z
LAST-MODIFIED:20161111T002600Z
UID:5624-1479292200-1479301200@nohowest.org
SUMMARY:NoHoWest Board Meeting
DESCRIPTION:Agenda
URL:https://nohowest.org/calendar/nohowest-board-meeting-8/
LOCATION:Wat Thai Temple\, 8225 Coldwater Canyon\, North Hollywood\, CA\, 91605\, United States
CATEGORIES:General Board
GEO:34.220578;-118.4147923
X-APPLE-STRUCTURED-LOCATION;VALUE=URI;X-ADDRESS=Wat Thai Temple 8225 Coldwater Canyon North Hollywood CA 91605 United States;X-APPLE-RADIUS=500;X-TITLE=8225 Coldwater Canyon:geo:-118.4147923,34.220578
END:VEVENT
BEGIN:VEVENT
DTSTART;TZID=America/Los_Angeles:20161107T103000
DTEND;TZID=America/Los_Angeles:20161107T130000
DTSTAMP:20260423T193739
CREATED:20151015T070329Z
LAST-MODIFIED:20151015T070329Z
UID:5259-1478514600-1478523600@nohowest.org
SUMMARY:Executive Committee Meeting
DESCRIPTION:
URL:https://nohowest.org/calendar/executive-committee-meeting-7/2016-11-07/
LOCATION:Wat Thai Temple\, 8225 Coldwater Canyon\, North Hollywood\, CA\, 91605\, United States
CATEGORIES:Committee Meeting
GEO:34.220578;-118.4147923
X-APPLE-STRUCTURED-LOCATION;VALUE=URI;X-ADDRESS=Wat Thai Temple 8225 Coldwater Canyon North Hollywood CA 91605 United States;X-APPLE-RADIUS=500;X-TITLE=8225 Coldwater Canyon:geo:-118.4147923,34.220578
END:VEVENT
BEGIN:VEVENT
DTSTART;TZID=America/Los_Angeles:20161026T113000
DTEND;TZID=America/Los_Angeles:20161026T140000
DTSTAMP:20260423T193739
CREATED:20151015T065610Z
LAST-MODIFIED:20161022T070537Z
UID:5247-1477481400-1477490400@nohowest.org
SUMMARY:NoHoWest Board Meeting
DESCRIPTION:Meets on the 4th Wednesday of the month. \nAgenda
URL:https://nohowest.org/calendar/nohowest-board-meeting-6-2016-10-26/
LOCATION:Wat Thai Temple\, 8225 Coldwater Canyon\, North Hollywood\, CA\, 91605\, United States
CATEGORIES:General Board
GEO:34.220578;-118.4147923
X-APPLE-STRUCTURED-LOCATION;VALUE=URI;X-ADDRESS=Wat Thai Temple 8225 Coldwater Canyon North Hollywood CA 91605 United States;X-APPLE-RADIUS=500;X-TITLE=8225 Coldwater Canyon:geo:-118.4147923,34.220578
END:VEVENT
BEGIN:VEVENT
DTSTART;TZID=America/Los_Angeles:20161017T113000
DTEND;TZID=America/Los_Angeles:20161017T140000
DTSTAMP:20260423T193739
CREATED:20151015T070135Z
LAST-MODIFIED:20161014T234157Z
UID:5258-1476703800-1476712800@nohowest.org
SUMMARY:Executive Committee Meeting
DESCRIPTION:Agenda
URL:https://nohowest.org/calendar/executive-committee-meeting-6-2016-05-09-2016-10-10/
LOCATION:Wat Thai Temple\, 8225 Coldwater Canyon\, North Hollywood\, CA\, 91605\, United States
CATEGORIES:Committee Meeting
GEO:34.220578;-118.4147923
X-APPLE-STRUCTURED-LOCATION;VALUE=URI;X-ADDRESS=Wat Thai Temple 8225 Coldwater Canyon North Hollywood CA 91605 United States;X-APPLE-RADIUS=500;X-TITLE=8225 Coldwater Canyon:geo:-118.4147923,34.220578
END:VEVENT
BEGIN:VEVENT
DTSTART;TZID=America/Los_Angeles:20160928T113000
DTEND;TZID=America/Los_Angeles:20160928T140000
DTSTAMP:20260423T193739
CREATED:20151015T065610Z
LAST-MODIFIED:20160915T034944Z
UID:5246-1475062200-1475071200@nohowest.org
SUMMARY:NoHoWest Board Meeting
DESCRIPTION:Meets on the 4th Wednesday of the month. \nAssemblymember Adrin Nazarian will be our guest speaker. Please join us for his update from Sacramento and bring your questions to participate in our Q & A.
URL:https://nohowest.org/calendar/nohowest-board-meeting-6-2016-09-28/
LOCATION:Wat Thai Temple\, 8225 Coldwater Canyon\, North Hollywood\, CA\, 91605\, United States
CATEGORIES:General Board
GEO:34.220578;-118.4147923
X-APPLE-STRUCTURED-LOCATION;VALUE=URI;X-ADDRESS=Wat Thai Temple 8225 Coldwater Canyon North Hollywood CA 91605 United States;X-APPLE-RADIUS=500;X-TITLE=8225 Coldwater Canyon:geo:-118.4147923,34.220578
END:VEVENT
BEGIN:VEVENT
DTSTART;TZID=America/Los_Angeles:20160919T113000
DTEND;TZID=America/Los_Angeles:20160919T140000
DTSTAMP:20260423T193739
CREATED:20151015T070135Z
LAST-MODIFIED:20160924T104009Z
UID:5257-1474284600-1474293600@nohowest.org
SUMMARY:Executive Committee Meeting-Cancelled
DESCRIPTION:
URL:https://nohowest.org/calendar/executive-committee-meeting-6-2016-05-09-2016-09-12/
LOCATION:Wat Thai Temple\, 8225 Coldwater Canyon\, North Hollywood\, CA\, 91605\, United States
CATEGORIES:Committee Meeting
GEO:34.220578;-118.4147923
X-APPLE-STRUCTURED-LOCATION;VALUE=URI;X-ADDRESS=Wat Thai Temple 8225 Coldwater Canyon North Hollywood CA 91605 United States;X-APPLE-RADIUS=500;X-TITLE=8225 Coldwater Canyon:geo:-118.4147923,34.220578
END:VEVENT
BEGIN:VEVENT
DTSTART;TZID=America/Los_Angeles:20160727T113000
DTEND;TZID=America/Los_Angeles:20160727T140000
DTSTAMP:20260423T193739
CREATED:20151015T065610Z
LAST-MODIFIED:20160707T204505Z
UID:5244-1469619000-1469628000@nohowest.org
SUMMARY:NoHoWest Board Meeting-Cancelled
DESCRIPTION:Meets on the 4th Wednesday of the month.
URL:https://nohowest.org/calendar/nohowest-board-meeting-6-2016-07-27/
LOCATION:Wat Thai Temple\, 8225 Coldwater Canyon\, North Hollywood\, CA\, 91605\, United States
CATEGORIES:General Board
GEO:34.220578;-118.4147923
X-APPLE-STRUCTURED-LOCATION;VALUE=URI;X-ADDRESS=Wat Thai Temple 8225 Coldwater Canyon North Hollywood CA 91605 United States;X-APPLE-RADIUS=500;X-TITLE=8225 Coldwater Canyon:geo:-118.4147923,34.220578
END:VEVENT
BEGIN:VEVENT
DTSTART;TZID=America/Los_Angeles:20160711T113000
DTEND;TZID=America/Los_Angeles:20160711T140000
DTSTAMP:20260423T193739
CREATED:20151015T070135Z
LAST-MODIFIED:20160707T204351Z
UID:5255-1468236600-1468245600@nohowest.org
SUMMARY:Executive Committee Meeting - Cancelled
DESCRIPTION:Meets on the 2nd Monday of the month.
URL:https://nohowest.org/calendar/executive-committee-meeting-6-2016-07-11/
LOCATION:Wat Thai Temple\, 8225 Coldwater Canyon\, North Hollywood\, CA\, 91605\, United States
CATEGORIES:Committee Meeting
GEO:34.220578;-118.4147923
X-APPLE-STRUCTURED-LOCATION;VALUE=URI;X-ADDRESS=Wat Thai Temple 8225 Coldwater Canyon North Hollywood CA 91605 United States;X-APPLE-RADIUS=500;X-TITLE=8225 Coldwater Canyon:geo:-118.4147923,34.220578
END:VEVENT
BEGIN:VEVENT
DTSTART;TZID=America/Los_Angeles:20160516T110000
DTEND;TZID=America/Los_Angeles:20160516T130000
DTSTAMP:20260423T193739
CREATED:20160513T040326Z
LAST-MODIFIED:20160513T040326Z
UID:5565-1463396400-1463403600@nohowest.org
SUMMARY:Special Board Meeting & Executive Committee Meeting
DESCRIPTION:Board Agenda \nExecutive Committee Agenda
URL:https://nohowest.org/calendar/special-board-meeting-executive-committee-meeting/
LOCATION:Wat Thai Temple\, 8225 Coldwater Canyon\, North Hollywood\, CA\, 91605\, United States
CATEGORIES:General Board
GEO:34.220578;-118.4147923
X-APPLE-STRUCTURED-LOCATION;VALUE=URI;X-ADDRESS=Wat Thai Temple 8225 Coldwater Canyon North Hollywood CA 91605 United States;X-APPLE-RADIUS=500;X-TITLE=8225 Coldwater Canyon:geo:-118.4147923,34.220578
END:VEVENT
BEGIN:VEVENT
DTSTART;TZID=America/Los_Angeles:20160427T113000
DTEND;TZID=America/Los_Angeles:20160427T140000
DTSTAMP:20260423T193739
CREATED:20151015T065610Z
LAST-MODIFIED:20160426T031148Z
UID:5241-1461756600-1461765600@nohowest.org
SUMMARY:NoHoWest Board Meeting
DESCRIPTION:Meets on the 4th Wednesday of the month. \nAgenda
URL:https://nohowest.org/calendar/nohowest-board-meeting-6-2016-04-27/
LOCATION:Wat Thai Temple\, 8225 Coldwater Canyon\, North Hollywood\, CA\, 91605\, United States
CATEGORIES:General Board
GEO:34.220578;-118.4147923
X-APPLE-STRUCTURED-LOCATION;VALUE=URI;X-ADDRESS=Wat Thai Temple 8225 Coldwater Canyon North Hollywood CA 91605 United States;X-APPLE-RADIUS=500;X-TITLE=8225 Coldwater Canyon:geo:-118.4147923,34.220578
END:VEVENT
BEGIN:VEVENT
DTSTART;TZID=America/Los_Angeles:20160418T113000
DTEND;TZID=America/Los_Angeles:20160418T140000
DTSTAMP:20260423T193739
CREATED:20160407T020635Z
LAST-MODIFIED:20160416T055108Z
UID:5519-1460979000-1460988000@nohowest.org
SUMMARY:Executive Committee Meeting
DESCRIPTION:Agenda
URL:https://nohowest.org/calendar/executive-committee-meeting-9/
LOCATION:Wat Thai Temple\, 8225 Coldwater Canyon\, North Hollywood\, CA\, 91605\, United States
CATEGORIES:Committee Meeting
GEO:34.220578;-118.4147923
X-APPLE-STRUCTURED-LOCATION;VALUE=URI;X-ADDRESS=Wat Thai Temple 8225 Coldwater Canyon North Hollywood CA 91605 United States;X-APPLE-RADIUS=500;X-TITLE=8225 Coldwater Canyon:geo:-118.4147923,34.220578
END:VEVENT
BEGIN:VEVENT
DTSTART;TZID=America/Los_Angeles:20160416T023000
DTEND;TZID=America/Los_Angeles:20160416T050000
DTSTAMP:20260423T193739
CREATED:20151015T070135Z
LAST-MODIFIED:20151016T004550Z
UID:5252-1460773800-1460782800@nohowest.org
SUMMARY:Executive Committee Meeting
DESCRIPTION:Meets on the 2nd Monday of the month.
URL:https://nohowest.org/calendar/executive-committee-meeting-6-2016-04-11/
LOCATION:Wat Thai Temple\, 8225 Coldwater Canyon\, North Hollywood\, CA\, 91605\, United States
CATEGORIES:Committee Meeting
GEO:34.220578;-118.4147923
X-APPLE-STRUCTURED-LOCATION;VALUE=URI;X-ADDRESS=Wat Thai Temple 8225 Coldwater Canyon North Hollywood CA 91605 United States;X-APPLE-RADIUS=500;X-TITLE=8225 Coldwater Canyon:geo:-118.4147923,34.220578
END:VEVENT
BEGIN:VEVENT
DTSTART;TZID=America/Los_Angeles:20160316T113000
DTEND;TZID=America/Los_Angeles:20160316T140000
DTSTAMP:20260423T193739
CREATED:20151015T070135Z
LAST-MODIFIED:20151016T004351Z
UID:5251-1458127800-1458136800@nohowest.org
SUMMARY:Executive Committee Meeting
DESCRIPTION:Meets on the 2nd Monday of the month.
URL:https://nohowest.org/calendar/executive-committee-meeting-6-2016-03-14/
LOCATION:Wat Thai Temple\, 8225 Coldwater Canyon\, North Hollywood\, CA\, 91605\, United States
CATEGORIES:Committee Meeting
GEO:34.220578;-118.4147923
X-APPLE-STRUCTURED-LOCATION;VALUE=URI;X-ADDRESS=Wat Thai Temple 8225 Coldwater Canyon North Hollywood CA 91605 United States;X-APPLE-RADIUS=500;X-TITLE=8225 Coldwater Canyon:geo:-118.4147923,34.220578
END:VEVENT
BEGIN:VEVENT
DTSTART;TZID=America/Los_Angeles:20160216T103000
DTEND;TZID=America/Los_Angeles:20160216T130000
DTSTAMP:20260423T193739
CREATED:20151015T070135Z
LAST-MODIFIED:20151016T004203Z
UID:5250-1455618600-1455627600@nohowest.org
SUMMARY:Executive Committee Meeting
DESCRIPTION:Meets on the 2nd Monday of the month; except for holidays
URL:https://nohowest.org/calendar/executive-committee-meeting-6-2016-02-08/
LOCATION:Wat Thai Temple\, 8225 Coldwater Canyon\, North Hollywood\, CA\, 91605\, United States
CATEGORIES:Committee Meeting
GEO:34.220578;-118.4147923
X-APPLE-STRUCTURED-LOCATION;VALUE=URI;X-ADDRESS=Wat Thai Temple 8225 Coldwater Canyon North Hollywood CA 91605 United States;X-APPLE-RADIUS=500;X-TITLE=8225 Coldwater Canyon:geo:-118.4147923,34.220578
END:VEVENT
BEGIN:VEVENT
DTSTART;TZID=America/Los_Angeles:20160127T103000
DTEND;TZID=America/Los_Angeles:20160127T130000
DTSTAMP:20260423T193739
CREATED:20151015T065610Z
LAST-MODIFIED:20151015T065610Z
UID:5238-1453890600-1453899600@nohowest.org
SUMMARY:NoHoWest Board Meeting
DESCRIPTION:Meets on the 4th Wednesday of the month.
URL:https://nohowest.org/calendar/nohowest-board-meeting-6/2016-01-27/
LOCATION:Wat Thai Temple\, 8225 Coldwater Canyon\, North Hollywood\, CA\, 91605\, United States
CATEGORIES:General Board
GEO:34.220578;-118.4147923
X-APPLE-STRUCTURED-LOCATION;VALUE=URI;X-ADDRESS=Wat Thai Temple 8225 Coldwater Canyon North Hollywood CA 91605 United States;X-APPLE-RADIUS=500;X-TITLE=8225 Coldwater Canyon:geo:-118.4147923,34.220578
END:VEVENT
BEGIN:VEVENT
DTSTART;TZID=America/Los_Angeles:20160119T103000
DTEND;TZID=America/Los_Angeles:20160119T130000
DTSTAMP:20260423T193739
CREATED:20151015T070135Z
LAST-MODIFIED:20160113T045922Z
UID:5249-1453199400-1453208400@nohowest.org
SUMMARY:Executive Committee Meeting
DESCRIPTION:Meets on the 2nd Monday of the month. Date changed due to the New Year.
URL:https://nohowest.org/calendar/executive-committee-meeting-6/
LOCATION:Wat Thai Temple\, 8225 Coldwater Canyon\, North Hollywood\, CA\, 91605\, United States
CATEGORIES:Committee Meeting
GEO:34.220578;-118.4147923
X-APPLE-STRUCTURED-LOCATION;VALUE=URI;X-ADDRESS=Wat Thai Temple 8225 Coldwater Canyon North Hollywood CA 91605 United States;X-APPLE-RADIUS=500;X-TITLE=8225 Coldwater Canyon:geo:-118.4147923,34.220578
END:VEVENT
BEGIN:VEVENT
DTSTART;TZID=America/Los_Angeles:20151216T103000
DTEND;TZID=America/Los_Angeles:20151216T130000
DTSTAMP:20260423T193739
CREATED:20151015T065849Z
LAST-MODIFIED:20151216T012535Z
UID:5248-1450261800-1450270800@nohowest.org
SUMMARY:NoHoWest Board Meeting
DESCRIPTION:Usually meets on the 4th Wednesday\, but moved up due to Christmas. \nView Agenda
URL:https://nohowest.org/calendar/nohowest-board-meeting-7/
LOCATION:Wat Thai Temple\, 8225 Coldwater Canyon\, North Hollywood\, CA\, 91605\, United States
CATEGORIES:General Board
GEO:34.220578;-118.4147923
X-APPLE-STRUCTURED-LOCATION;VALUE=URI;X-ADDRESS=Wat Thai Temple 8225 Coldwater Canyon North Hollywood CA 91605 United States;X-APPLE-RADIUS=500;X-TITLE=8225 Coldwater Canyon:geo:-118.4147923,34.220578
END:VEVENT
BEGIN:VEVENT
DTSTART;TZID=America/Los_Angeles:20151214T103000
DTEND;TZID=America/Los_Angeles:20151214T120000
DTSTAMP:20260423T193739
CREATED:20151212T035454Z
LAST-MODIFIED:20151212T075622Z
UID:5374-1450089000-1450094400@nohowest.org
SUMMARY:Elections Committee Meeting
DESCRIPTION:View Agenda
URL:https://nohowest.org/calendar/elections-committee-meeting/
LOCATION:Wat Thai Temple\, 8225 Coldwater Canyon\, North Hollywood\, CA\, 91605\, United States
CATEGORIES:Committee Meeting
GEO:34.220578;-118.4147923
X-APPLE-STRUCTURED-LOCATION;VALUE=URI;X-ADDRESS=Wat Thai Temple 8225 Coldwater Canyon North Hollywood CA 91605 United States;X-APPLE-RADIUS=500;X-TITLE=8225 Coldwater Canyon:geo:-118.4147923,34.220578
END:VEVENT
BEGIN:VEVENT
DTSTART;TZID=America/Los_Angeles:20151207T103000
DTEND;TZID=America/Los_Angeles:20151207T130000
DTSTAMP:20260423T193739
CREATED:20151015T070452Z
LAST-MODIFIED:20151015T070452Z
UID:5261-1449484200-1449493200@nohowest.org
SUMMARY:Executive Committee Meeting
DESCRIPTION:
URL:https://nohowest.org/calendar/executive-committee-meeting-8/
LOCATION:Wat Thai Temple\, 8225 Coldwater Canyon\, North Hollywood\, CA\, 91605\, United States
CATEGORIES:Committee Meeting
GEO:34.220578;-118.4147923
X-APPLE-STRUCTURED-LOCATION;VALUE=URI;X-ADDRESS=Wat Thai Temple 8225 Coldwater Canyon North Hollywood CA 91605 United States;X-APPLE-RADIUS=500;X-TITLE=8225 Coldwater Canyon:geo:-118.4147923,34.220578
END:VEVENT
BEGIN:VEVENT
DTSTART;TZID=America/Los_Angeles:20151120T103000
DTEND;TZID=America/Los_Angeles:20151120T110000
DTSTAMP:20260423T193739
CREATED:20151119T014048Z
LAST-MODIFIED:20151119T014048Z
UID:5317-1448015400-1448017200@nohowest.org
SUMMARY:Special Board Meeting
DESCRIPTION:View Agenda
URL:https://nohowest.org/calendar/special-board-meeting/
LOCATION:Wat Thai Temple\, 8225 Coldwater Canyon\, North Hollywood\, CA\, 91605\, United States
CATEGORIES:General Board
GEO:34.220578;-118.4147923
X-APPLE-STRUCTURED-LOCATION;VALUE=URI;X-ADDRESS=Wat Thai Temple 8225 Coldwater Canyon North Hollywood CA 91605 United States;X-APPLE-RADIUS=500;X-TITLE=8225 Coldwater Canyon:geo:-118.4147923,34.220578
END:VEVENT
BEGIN:VEVENT
DTSTART;TZID=America/Los_Angeles:20151118T103000
DTEND;TZID=America/Los_Angeles:20151118T130000
DTSTAMP:20260423T193739
CREATED:20150515T041000Z
LAST-MODIFIED:20151008T232241Z
UID:4665-1447842600-1447851600@nohowest.org
SUMMARY:NoHoWest Board Meeting
DESCRIPTION:
URL:https://nohowest.org/calendar/nohowest-board-meeting-5/
LOCATION:Wat Thai Temple\, 8225 Coldwater Canyon\, North Hollywood\, CA\, 91605\, United States
CATEGORIES:General Board
GEO:34.220578;-118.4147923
X-APPLE-STRUCTURED-LOCATION;VALUE=URI;X-ADDRESS=Wat Thai Temple 8225 Coldwater Canyon North Hollywood CA 91605 United States;X-APPLE-RADIUS=500;X-TITLE=8225 Coldwater Canyon:geo:-118.4147923,34.220578
END:VEVENT
BEGIN:VEVENT
DTSTART;TZID=America/Los_Angeles:20151109T103000
DTEND;TZID=America/Los_Angeles:20151109T130000
DTSTAMP:20260423T193739
CREATED:20150515T040745Z
LAST-MODIFIED:20151008T232134Z
UID:4662-1447065000-1447074000@nohowest.org
SUMMARY:Executive Committee Meeting
DESCRIPTION:
URL:https://nohowest.org/calendar/executive-committee-meeting-4/
LOCATION:Wat Thai Temple\, 8225 Coldwater Canyon\, North Hollywood\, CA\, 91605\, United States
CATEGORIES:Committee Meeting
GEO:34.220578;-118.4147923
X-APPLE-STRUCTURED-LOCATION;VALUE=URI;X-ADDRESS=Wat Thai Temple 8225 Coldwater Canyon North Hollywood CA 91605 United States;X-APPLE-RADIUS=500;X-TITLE=8225 Coldwater Canyon:geo:-118.4147923,34.220578
END:VEVENT
END:VCALENDAR