BEGIN:VCALENDAR
VERSION:2.0
PRODID:-//NoHowest.org - ECPv6.15.16//NONSGML v1.0//EN
CALSCALE:GREGORIAN
METHOD:PUBLISH
X-WR-CALNAME:NoHowest.org
X-ORIGINAL-URL:https://nohowest.org
X-WR-CALDESC:Events for NoHowest.org
REFRESH-INTERVAL;VALUE=DURATION:PT1H
X-Robots-Tag:noindex
X-PUBLISHED-TTL:PT1H
BEGIN:VTIMEZONE
TZID:America/Los_Angeles
BEGIN:DAYLIGHT
TZOFFSETFROM:-0800
TZOFFSETTO:-0700
TZNAME:PDT
DTSTART:20140309T100000
END:DAYLIGHT
BEGIN:STANDARD
TZOFFSETFROM:-0700
TZOFFSETTO:-0800
TZNAME:PST
DTSTART:20141102T090000
END:STANDARD
BEGIN:DAYLIGHT
TZOFFSETFROM:-0800
TZOFFSETTO:-0700
TZNAME:PDT
DTSTART:20150308T100000
END:DAYLIGHT
BEGIN:STANDARD
TZOFFSETFROM:-0700
TZOFFSETTO:-0800
TZNAME:PST
DTSTART:20151101T090000
END:STANDARD
BEGIN:DAYLIGHT
TZOFFSETFROM:-0800
TZOFFSETTO:-0700
TZNAME:PDT
DTSTART:20160313T100000
END:DAYLIGHT
BEGIN:STANDARD
TZOFFSETFROM:-0700
TZOFFSETTO:-0800
TZNAME:PST
DTSTART:20161106T090000
END:STANDARD
END:VTIMEZONE
BEGIN:VEVENT
DTSTART;TZID=America/Los_Angeles:20151017T010000
DTEND;TZID=America/Los_Angeles:20151017T040000
DTSTAMP:20260424T084951
CREATED:20151013T132806Z
LAST-MODIFIED:20151013T132806Z
UID:5231-1445043600-1445054400@nohowest.org
SUMMARY:Whitsett Slope Clean-Up Saturday;October 17\, 2015 08:00am to 11:00am
DESCRIPTION:CD 2;Paul Krekorian\, Strathern Neighborhood Watch & North Hollywood West Neighborhood Council\, would appreciate Volunteers to help get Whitsett Slope back in  shape & make a difference in your  Neighborhood! Please\, come lend a hand\, give your support\, meet your Neighbors & make your Neighborhood matter! See you there: Saturday;October 17\, 2015 from 08:00am to 11:00am Parking Enforcement\, Saticoy & Whitsett.
URL:https://nohowest.org/calendar/whitsett-slope-clean-up-saturdayoctober-17-2015-0800am-to-1100am/
LOCATION:Whitsett Slope Clean-Up\, Whitsett & Saticoy \, North Hollywood \, 91605\, United States
CATEGORIES:Community Events
GEO:34.2084822;-118.4052385
X-APPLE-STRUCTURED-LOCATION;VALUE=URI;X-ADDRESS=Whitsett Slope Clean-Up Whitsett & Saticoy  North Hollywood  91605 United States;X-APPLE-RADIUS=500;X-TITLE=Whitsett & Saticoy:geo:-118.4052385,34.2084822
END:VEVENT
END:VCALENDAR