BEGIN:VCALENDAR
VERSION:2.0
PRODID:-//NoHowest.org - ECPv6.15.16//NONSGML v1.0//EN
CALSCALE:GREGORIAN
METHOD:PUBLISH
X-WR-CALNAME:NoHowest.org
X-ORIGINAL-URL:https://nohowest.org
X-WR-CALDESC:Events for NoHowest.org
REFRESH-INTERVAL;VALUE=DURATION:PT1H
X-Robots-Tag:noindex
X-PUBLISHED-TTL:PT1H
BEGIN:VTIMEZONE
TZID:America/Los_Angeles
BEGIN:DAYLIGHT
TZOFFSETFROM:-0800
TZOFFSETTO:-0700
TZNAME:PDT
DTSTART:20160313T100000
END:DAYLIGHT
BEGIN:STANDARD
TZOFFSETFROM:-0700
TZOFFSETTO:-0800
TZNAME:PST
DTSTART:20161106T090000
END:STANDARD
BEGIN:DAYLIGHT
TZOFFSETFROM:-0800
TZOFFSETTO:-0700
TZNAME:PDT
DTSTART:20170312T100000
END:DAYLIGHT
BEGIN:STANDARD
TZOFFSETFROM:-0700
TZOFFSETTO:-0800
TZNAME:PST
DTSTART:20171105T090000
END:STANDARD
BEGIN:DAYLIGHT
TZOFFSETFROM:-0800
TZOFFSETTO:-0700
TZNAME:PDT
DTSTART:20180311T100000
END:DAYLIGHT
BEGIN:STANDARD
TZOFFSETFROM:-0700
TZOFFSETTO:-0800
TZNAME:PST
DTSTART:20181104T090000
END:STANDARD
BEGIN:DAYLIGHT
TZOFFSETFROM:-0800
TZOFFSETTO:-0700
TZNAME:PDT
DTSTART:20190310T100000
END:DAYLIGHT
BEGIN:STANDARD
TZOFFSETFROM:-0700
TZOFFSETTO:-0800
TZNAME:PST
DTSTART:20191103T090000
END:STANDARD
BEGIN:DAYLIGHT
TZOFFSETFROM:-0800
TZOFFSETTO:-0700
TZNAME:PDT
DTSTART:20200308T100000
END:DAYLIGHT
BEGIN:STANDARD
TZOFFSETFROM:-0700
TZOFFSETTO:-0800
TZNAME:PST
DTSTART:20201101T090000
END:STANDARD
BEGIN:DAYLIGHT
TZOFFSETFROM:-0800
TZOFFSETTO:-0700
TZNAME:PDT
DTSTART:20210314T100000
END:DAYLIGHT
BEGIN:STANDARD
TZOFFSETFROM:-0700
TZOFFSETTO:-0800
TZNAME:PST
DTSTART:20211107T090000
END:STANDARD
BEGIN:DAYLIGHT
TZOFFSETFROM:-0800
TZOFFSETTO:-0700
TZNAME:PDT
DTSTART:20220313T100000
END:DAYLIGHT
BEGIN:STANDARD
TZOFFSETFROM:-0700
TZOFFSETTO:-0800
TZNAME:PST
DTSTART:20221106T090000
END:STANDARD
BEGIN:DAYLIGHT
TZOFFSETFROM:-0800
TZOFFSETTO:-0700
TZNAME:PDT
DTSTART:20230312T100000
END:DAYLIGHT
BEGIN:STANDARD
TZOFFSETFROM:-0700
TZOFFSETTO:-0800
TZNAME:PST
DTSTART:20231105T090000
END:STANDARD
BEGIN:DAYLIGHT
TZOFFSETFROM:-0800
TZOFFSETTO:-0700
TZNAME:PDT
DTSTART:20240310T100000
END:DAYLIGHT
BEGIN:STANDARD
TZOFFSETFROM:-0700
TZOFFSETTO:-0800
TZNAME:PST
DTSTART:20241103T090000
END:STANDARD
BEGIN:DAYLIGHT
TZOFFSETFROM:-0800
TZOFFSETTO:-0700
TZNAME:PDT
DTSTART:20250309T100000
END:DAYLIGHT
BEGIN:STANDARD
TZOFFSETFROM:-0700
TZOFFSETTO:-0800
TZNAME:PST
DTSTART:20251102T090000
END:STANDARD
BEGIN:DAYLIGHT
TZOFFSETFROM:-0800
TZOFFSETTO:-0700
TZNAME:PDT
DTSTART:20260308T100000
END:DAYLIGHT
BEGIN:STANDARD
TZOFFSETFROM:-0700
TZOFFSETTO:-0800
TZNAME:PST
DTSTART:20261101T090000
END:STANDARD
END:VTIMEZONE
BEGIN:VEVENT
DTSTART;TZID=America/Los_Angeles:20250614T120000
DTEND;TZID=America/Los_Angeles:20250614T140000
DTSTAMP:20260423T141526
CREATED:20250515T193412Z
LAST-MODIFIED:20250612T172819Z
UID:19435-1749902400-1749909600@nohowest.org
SUMMARY:Otter Pop with a Cop-Cancelled
DESCRIPTION:
URL:https://nohowest.org/calendar/otter-pop-with-a-cop/
LOCATION:Whitsett Sports Fields\, 12413 Vanowen St.\, North Hollywood\, CA\, 91605
CATEGORIES:Community Events
GEO:34.1939509;-118.4033955
X-APPLE-STRUCTURED-LOCATION;VALUE=URI;X-ADDRESS=Whitsett Sports Fields 12413 Vanowen St. North Hollywood CA 91605;X-APPLE-RADIUS=500;X-TITLE=12413 Vanowen St.:geo:-118.4033955,34.1939509
END:VEVENT
BEGIN:VEVENT
DTSTART;TZID=America/Los_Angeles:20241214T150000
DTEND;TZID=America/Los_Angeles:20241214T190000
DTSTAMP:20260423T141526
CREATED:20241122T174155Z
LAST-MODIFIED:20241122T174155Z
UID:19067-1734188400-1734202800@nohowest.org
SUMMARY:Winter Wonderland
DESCRIPTION:Winter Wonderland has become a beloved holiday season tradition in Second Council District. This December\, Councilmember Krekorian will be jointly presenting the festive spectacle with Councilmember-elect Adrin Nazarian. Join us for a day of music\, snow\, free toys and fun activities.
URL:https://nohowest.org/calendar/winter-wonderland-5/
LOCATION:Whitsett Sports Fields\, 12413 Vanowen St.\, North Hollywood\, CA\, 91605
CATEGORIES:Community Events
GEO:34.1939509;-118.4033955
X-APPLE-STRUCTURED-LOCATION;VALUE=URI;X-ADDRESS=Whitsett Sports Fields 12413 Vanowen St. North Hollywood CA 91605;X-APPLE-RADIUS=500;X-TITLE=12413 Vanowen St.:geo:-118.4033955,34.1939509
END:VEVENT
BEGIN:VEVENT
DTSTART;TZID=America/Los_Angeles:20230801T180000
DTEND;TZID=America/Los_Angeles:20230801T210000
DTSTAMP:20260423T141526
CREATED:20230728T201313Z
LAST-MODIFIED:20230728T201313Z
UID:15612-1690912800-1690923600@nohowest.org
SUMMARY:National Night Out
DESCRIPTION:We are excited to meet you at National Night Out on August 1\, 6-9pm at the Whitsett Sports Fields. This is a great opportunity to bring police and neighbors together for North Hollywood. Meet your Senior Lead Officer and neighbors.
URL:https://nohowest.org/calendar/national-night-out-5/
LOCATION:Whitsett Sports Fields\, 12413 Vanowen St.\, North Hollywood\, CA\, 91605
CATEGORIES:Community Events
GEO:34.1939509;-118.4033955
X-APPLE-STRUCTURED-LOCATION;VALUE=URI;X-ADDRESS=Whitsett Sports Fields 12413 Vanowen St. North Hollywood CA 91605;X-APPLE-RADIUS=500;X-TITLE=12413 Vanowen St.:geo:-118.4033955,34.1939509
END:VEVENT
BEGIN:VEVENT
DTSTART;TZID=America/Los_Angeles:20221217T100000
DTEND;TZID=America/Los_Angeles:20221217T140000
DTSTAMP:20260423T141526
CREATED:20221115T211337Z
LAST-MODIFIED:20221115T211337Z
UID:13179-1671271200-1671285600@nohowest.org
SUMMARY:Winter Wonderland
DESCRIPTION:
URL:https://nohowest.org/calendar/winter-wonderland/
LOCATION:Whitsett Sports Fields\, 12413 Vanowen St.\, North Hollywood\, CA\, 91605
CATEGORIES:Community Events
GEO:34.1939509;-118.4033955
X-APPLE-STRUCTURED-LOCATION;VALUE=URI;X-ADDRESS=Whitsett Sports Fields 12413 Vanowen St. North Hollywood CA 91605;X-APPLE-RADIUS=500;X-TITLE=12413 Vanowen St.:geo:-118.4033955,34.1939509
END:VEVENT
BEGIN:VEVENT
DTSTART;TZID=America/Los_Angeles:20220802T170000
DTEND;TZID=America/Los_Angeles:20220802T210000
DTSTAMP:20260423T141526
CREATED:20220726T221735Z
LAST-MODIFIED:20220728T191127Z
UID:12233-1659459600-1659474000@nohowest.org
SUMMARY:National Night Out
DESCRIPTION:You are invited to the National Night Out Against Crime event on Tuesday\, August 2\, 5-9pm at the Whitsett Sports Complex. We are sponsoring this event. Come out and join us; we would love to meet you! \nThis will be a fun family event! Expect family fun like face painting\, crafts\, hot dogs\, music and more! Meet your neighbors and get connected to your Senior Lead Officers and your community! \nPlan to Meet: \nLAPD Officers\, Mounted Police\, Community Police Advisory Board\nCouncilmember Krekorian’s Office\nNoHo West Neighborhood Council\, Studio City and Greater Toluca Lake Neighborhood Councils\nLAPD Cadets\nHeaven on Earth\, Perry’s Place\nComfy Packs\nValley Plaza Library\nValley Plaza Recreation Center\nVictory Outreach Church \nNational Night Out enhances the relationship between neighbors and law enforcement while brining back a true sense of community and providing a great opportunity to bring police and neighbors together under positive circumstances.
URL:https://nohowest.org/calendar/national-night-out-4/
LOCATION:Whitsett Sports Fields\, 12413 Vanowen St.\, North Hollywood\, CA\, 91605
CATEGORIES:Community Events
GEO:34.1939509;-118.4033955
X-APPLE-STRUCTURED-LOCATION;VALUE=URI;X-ADDRESS=Whitsett Sports Fields 12413 Vanowen St. North Hollywood CA 91605;X-APPLE-RADIUS=500;X-TITLE=12413 Vanowen St.:geo:-118.4033955,34.1939509
END:VEVENT
BEGIN:VEVENT
DTSTART;TZID=America/Los_Angeles:20211218T100000
DTEND;TZID=America/Los_Angeles:20211218T140000
DTSTAMP:20260423T141526
CREATED:20211123T020840Z
LAST-MODIFIED:20211123T021024Z
UID:11061-1639821600-1639836000@nohowest.org
SUMMARY:Winter Wonderland Toy Giveaway
DESCRIPTION:
URL:https://nohowest.org/calendar/winter-wonderland-toy-giveaway/
LOCATION:Whitsett Sports Fields\, 12413 Vanowen St.\, North Hollywood\, CA\, 91605
CATEGORIES:Community Events
GEO:34.1939509;-118.4033955
X-APPLE-STRUCTURED-LOCATION;VALUE=URI;X-ADDRESS=Whitsett Sports Fields 12413 Vanowen St. North Hollywood CA 91605;X-APPLE-RADIUS=500;X-TITLE=12413 Vanowen St.:geo:-118.4033955,34.1939509
END:VEVENT
BEGIN:VEVENT
DTSTART;TZID=America/Los_Angeles:20210903T090000
DTEND;TZID=America/Los_Angeles:20210903T120000
DTSTAMP:20260423T141526
CREATED:20210901T000719Z
LAST-MODIFIED:20210901T000719Z
UID:10797-1630659600-1630670400@nohowest.org
SUMMARY:Food Giveaway
DESCRIPTION:
URL:https://nohowest.org/calendar/food-giveaway-3/
LOCATION:Whitsett Sports Fields\, 12413 Vanowen St.\, North Hollywood\, CA\, 91605
CATEGORIES:Community Events
GEO:34.1939509;-118.4033955
X-APPLE-STRUCTURED-LOCATION;VALUE=URI;X-ADDRESS=Whitsett Sports Fields 12413 Vanowen St. North Hollywood CA 91605;X-APPLE-RADIUS=500;X-TITLE=12413 Vanowen St.:geo:-118.4033955,34.1939509
END:VEVENT
BEGIN:VEVENT
DTSTART;TZID=America/Los_Angeles:20190518T090000
DTEND;TZID=America/Los_Angeles:20190518T130000
DTSTAMP:20260423T141526
CREATED:20190514T211646Z
LAST-MODIFIED:20190514T211646Z
UID:8605-1558170000-1558184400@nohowest.org
SUMMARY:Whitsett Sports Complex Community Fair
DESCRIPTION:Councilmember Krekorian\, the Los Angeles Police Department\, the Dept. of Recreation and Parks\, and the NoHo West Neighborhood Council invite you to a community fair at the Whitsett Sports Complex. Bring the whole family to learn more about the resources and services that are available to you. Residents can also bring their bicycles to have them registered. The event is free.
URL:https://nohowest.org/calendar/whitsett-sports-complex-community-fair/
LOCATION:Whitsett Sports Fields\, 12413 Vanowen St.\, North Hollywood\, CA\, 91605
CATEGORIES:Community Events
GEO:34.1939509;-118.4033955
X-APPLE-STRUCTURED-LOCATION;VALUE=URI;X-ADDRESS=Whitsett Sports Fields 12413 Vanowen St. North Hollywood CA 91605;X-APPLE-RADIUS=500;X-TITLE=12413 Vanowen St.:geo:-118.4033955,34.1939509
END:VEVENT
BEGIN:VEVENT
DTSTART;TZID=America/Los_Angeles:20170503T153000
DTEND;TZID=America/Los_Angeles:20170503T163000
DTSTAMP:20260423T141526
CREATED:20170417T164459Z
LAST-MODIFIED:20170417T164459Z
UID:6326-1493825400-1493829000@nohowest.org
SUMMARY:Whitsett Soccer Complex Ribbon Cutting
DESCRIPTION:
URL:https://nohowest.org/calendar/whitsett-soccer-complex-ribbon-cutting/
LOCATION:Whitsett Sports Fields\, 12413 Vanowen St.\, North Hollywood\, CA\, 91605
CATEGORIES:Community Events
GEO:34.1939509;-118.4033955
X-APPLE-STRUCTURED-LOCATION;VALUE=URI;X-ADDRESS=Whitsett Sports Fields 12413 Vanowen St. North Hollywood CA 91605;X-APPLE-RADIUS=500;X-TITLE=12413 Vanowen St.:geo:-118.4033955,34.1939509
END:VEVENT
END:VCALENDAR