BEGIN:VCALENDAR
VERSION:2.0
PRODID:-//NoHowest.org - ECPv6.15.16//NONSGML v1.0//EN
CALSCALE:GREGORIAN
METHOD:PUBLISH
X-WR-CALNAME:NoHowest.org
X-ORIGINAL-URL:https://nohowest.org
X-WR-CALDESC:Events for NoHowest.org
REFRESH-INTERVAL;VALUE=DURATION:PT1H
X-Robots-Tag:noindex
X-PUBLISHED-TTL:PT1H
BEGIN:VTIMEZONE
TZID:America/Los_Angeles
BEGIN:DAYLIGHT
TZOFFSETFROM:-0800
TZOFFSETTO:-0700
TZNAME:PDT
DTSTART:20250309T100000
END:DAYLIGHT
BEGIN:STANDARD
TZOFFSETFROM:-0700
TZOFFSETTO:-0800
TZNAME:PST
DTSTART:20251102T090000
END:STANDARD
BEGIN:DAYLIGHT
TZOFFSETFROM:-0800
TZOFFSETTO:-0700
TZNAME:PDT
DTSTART:20260308T100000
END:DAYLIGHT
BEGIN:STANDARD
TZOFFSETFROM:-0700
TZOFFSETTO:-0800
TZNAME:PST
DTSTART:20261101T090000
END:STANDARD
BEGIN:DAYLIGHT
TZOFFSETFROM:-0800
TZOFFSETTO:-0700
TZNAME:PDT
DTSTART:20270314T100000
END:DAYLIGHT
BEGIN:STANDARD
TZOFFSETFROM:-0700
TZOFFSETTO:-0800
TZNAME:PST
DTSTART:20271107T090000
END:STANDARD
END:VTIMEZONE
BEGIN:VEVENT
DTSTART;TZID=America/Los_Angeles:20260425T090000
DTEND;TZID=America/Los_Angeles:20260425T120000
DTSTAMP:20260423T115850
CREATED:20260415T232330Z
LAST-MODIFIED:20260415T232330Z
UID:20139-1777107600-1777118400@nohowest.org
SUMMARY:Shine North Hollywood
DESCRIPTION:Make your neighborhood shine. Join your neighbors for hands on volunteer activities that build real connections and lasting impact. Join us April 25 from 9:00 AM to noon at the Whitsett Fields\, 6952 Whitsett Ave\, North Hollywood. Participate in family friendly volunteer activities Sign up to volunteer: https://mayor.lacity.gov/ShineLA
URL:https://nohowest.org/calendar/shine-north-hollywood/
LOCATION:Whitsett Sports Fields\, 12413 Vanowen St.\, North Hollywood\, CA\, 91605
GEO:34.1939509;-118.4033955
X-APPLE-STRUCTURED-LOCATION;VALUE=URI;X-ADDRESS=Whitsett Sports Fields 12413 Vanowen St. North Hollywood CA 91605;X-APPLE-RADIUS=500;X-TITLE=12413 Vanowen St.:geo:-118.4033955,34.1939509
END:VEVENT
END:VCALENDAR