BEGIN:VCALENDAR
VERSION:2.0
PRODID:-//NoHowest.org - ECPv6.15.16//NONSGML v1.0//EN
CALSCALE:GREGORIAN
METHOD:PUBLISH
X-ORIGINAL-URL:https://nohowest.org
X-WR-CALDESC:Events for NoHowest.org
REFRESH-INTERVAL;VALUE=DURATION:PT1H
X-Robots-Tag:noindex
X-PUBLISHED-TTL:PT1H
BEGIN:VTIMEZONE
TZID:America/Los_Angeles
BEGIN:DAYLIGHT
TZOFFSETFROM:-0800
TZOFFSETTO:-0700
TZNAME:PDT
DTSTART:20160313T100000
END:DAYLIGHT
BEGIN:STANDARD
TZOFFSETFROM:-0700
TZOFFSETTO:-0800
TZNAME:PST
DTSTART:20161106T090000
END:STANDARD
BEGIN:DAYLIGHT
TZOFFSETFROM:-0800
TZOFFSETTO:-0700
TZNAME:PDT
DTSTART:20170312T100000
END:DAYLIGHT
BEGIN:STANDARD
TZOFFSETFROM:-0700
TZOFFSETTO:-0800
TZNAME:PST
DTSTART:20171105T090000
END:STANDARD
BEGIN:DAYLIGHT
TZOFFSETFROM:-0800
TZOFFSETTO:-0700
TZNAME:PDT
DTSTART:20180311T100000
END:DAYLIGHT
BEGIN:STANDARD
TZOFFSETFROM:-0700
TZOFFSETTO:-0800
TZNAME:PST
DTSTART:20181104T090000
END:STANDARD
END:VTIMEZONE
BEGIN:VEVENT
DTSTART;TZID=America/Los_Angeles:20170619T190000
DTEND;TZID=America/Los_Angeles:20170619T210000
DTSTAMP:20260424T002445
CREATED:20170614T180519Z
LAST-MODIFIED:20170614T180519Z
UID:6497-1497898800-1497906000@nohowest.org
SUMMARY:The Power of TV: A Conversation with Norman Lear and One Day at a Time
DESCRIPTION:The Power of TV: A Conversation with Norman Lear and One Day at a Time\nMonday\, June 19\, 7 pm\nWolf Theatre\, Saban Media Center\nTelevision Academy\n5210 Lankershim Blvd.\nNorth Hollywood\, CA 91601 \nThe Television Academy Foundation cordially invites you to: The Power of TV: A Conversation with Norman Lear and One Day at a Time\, to celebrate the 20th Anniversary of The Interviews. Norman Lear will discuss his life in television and his perspective on the medium\, followed by a lively exchange with Netflix’s One Day at A Time co-creators and executive producers Gloria Calderon Kellett and Mike Royce\, and stars Justina Machado\, Rita Moreno\, Todd Grinnell\, Isabella Gomez\, Marcel Ruiz\, and Stephen Tobolowsky. Tickets to the public program are $15 and available for purchase at poweroftv.eventbrite.com.
URL:https://nohowest.org/calendar/the-power-of-tv-a-conversation-with-norman-lear-and-one-day-at-a-time/
LOCATION:Wolf Theatre\, Saban Media Center\, 5210 Lankershim Blvd.\, North Hollywood\, 91601
CATEGORIES:Community Events
GEO:34.1651663;-118.3747949
X-APPLE-STRUCTURED-LOCATION;VALUE=URI;X-ADDRESS=Wolf Theatre Saban Media Center 5210 Lankershim Blvd. North Hollywood 91601;X-APPLE-RADIUS=500;X-TITLE=5210 Lankershim Blvd.:geo:-118.3747949,34.1651663
END:VEVENT
END:VCALENDAR