BEGIN:VCALENDAR
VERSION:2.0
PRODID:-//NoHowest.org - ECPv6.15.16//NONSGML v1.0//EN
CALSCALE:GREGORIAN
METHOD:PUBLISH
X-ORIGINAL-URL:https://nohowest.org
X-WR-CALDESC:Events for NoHowest.org
REFRESH-INTERVAL;VALUE=DURATION:PT1H
X-Robots-Tag:noindex
X-PUBLISHED-TTL:PT1H
BEGIN:VTIMEZONE
TZID:America/Los_Angeles
BEGIN:DAYLIGHT
TZOFFSETFROM:-0800
TZOFFSETTO:-0700
TZNAME:PDT
DTSTART:20160313T100000
END:DAYLIGHT
BEGIN:STANDARD
TZOFFSETFROM:-0700
TZOFFSETTO:-0800
TZNAME:PST
DTSTART:20161106T090000
END:STANDARD
BEGIN:DAYLIGHT
TZOFFSETFROM:-0800
TZOFFSETTO:-0700
TZNAME:PDT
DTSTART:20170312T100000
END:DAYLIGHT
BEGIN:STANDARD
TZOFFSETFROM:-0700
TZOFFSETTO:-0800
TZNAME:PST
DTSTART:20171105T090000
END:STANDARD
BEGIN:DAYLIGHT
TZOFFSETFROM:-0800
TZOFFSETTO:-0700
TZNAME:PDT
DTSTART:20180311T100000
END:DAYLIGHT
BEGIN:STANDARD
TZOFFSETFROM:-0700
TZOFFSETTO:-0800
TZNAME:PST
DTSTART:20181104T090000
END:STANDARD
BEGIN:DAYLIGHT
TZOFFSETFROM:-0800
TZOFFSETTO:-0700
TZNAME:PDT
DTSTART:20190310T100000
END:DAYLIGHT
BEGIN:STANDARD
TZOFFSETFROM:-0700
TZOFFSETTO:-0800
TZNAME:PST
DTSTART:20191103T090000
END:STANDARD
BEGIN:DAYLIGHT
TZOFFSETFROM:-0800
TZOFFSETTO:-0700
TZNAME:PDT
DTSTART:20200308T100000
END:DAYLIGHT
BEGIN:STANDARD
TZOFFSETFROM:-0700
TZOFFSETTO:-0800
TZNAME:PST
DTSTART:20201101T090000
END:STANDARD
BEGIN:DAYLIGHT
TZOFFSETFROM:-0800
TZOFFSETTO:-0700
TZNAME:PDT
DTSTART:20210314T100000
END:DAYLIGHT
BEGIN:STANDARD
TZOFFSETFROM:-0700
TZOFFSETTO:-0800
TZNAME:PST
DTSTART:20211107T090000
END:STANDARD
BEGIN:DAYLIGHT
TZOFFSETFROM:-0800
TZOFFSETTO:-0700
TZNAME:PDT
DTSTART:20220313T100000
END:DAYLIGHT
BEGIN:STANDARD
TZOFFSETFROM:-0700
TZOFFSETTO:-0800
TZNAME:PST
DTSTART:20221106T090000
END:STANDARD
BEGIN:DAYLIGHT
TZOFFSETFROM:-0800
TZOFFSETTO:-0700
TZNAME:PDT
DTSTART:20230312T100000
END:DAYLIGHT
BEGIN:STANDARD
TZOFFSETFROM:-0700
TZOFFSETTO:-0800
TZNAME:PST
DTSTART:20231105T090000
END:STANDARD
BEGIN:DAYLIGHT
TZOFFSETFROM:-0800
TZOFFSETTO:-0700
TZNAME:PDT
DTSTART:20240310T100000
END:DAYLIGHT
BEGIN:STANDARD
TZOFFSETFROM:-0700
TZOFFSETTO:-0800
TZNAME:PST
DTSTART:20241103T090000
END:STANDARD
BEGIN:DAYLIGHT
TZOFFSETFROM:-0800
TZOFFSETTO:-0700
TZNAME:PDT
DTSTART:20250309T100000
END:DAYLIGHT
BEGIN:STANDARD
TZOFFSETFROM:-0700
TZOFFSETTO:-0800
TZNAME:PST
DTSTART:20251102T090000
END:STANDARD
BEGIN:DAYLIGHT
TZOFFSETFROM:-0800
TZOFFSETTO:-0700
TZNAME:PDT
DTSTART:20260308T100000
END:DAYLIGHT
BEGIN:STANDARD
TZOFFSETFROM:-0700
TZOFFSETTO:-0800
TZNAME:PST
DTSTART:20261101T090000
END:STANDARD
END:VTIMEZONE
BEGIN:VEVENT
DTSTART;TZID=America/Los_Angeles:20250612T090000
DTEND;TZID=America/Los_Angeles:20250612T130000
DTSTAMP:20260423T212716
CREATED:20250515T194721Z
LAST-MODIFIED:20250515T194721Z
UID:19441-1749718800-1749733200@nohowest.org
SUMMARY:Job Fair
DESCRIPTION:
URL:https://nohowest.org/calendar/job-fair-4/
LOCATION:Zev Yaroslavsky Family Support Center\, 7555 Van Nuys Boulevard\, Van Nuys\, 91405
CATEGORIES:Community Events
GEO:34.2082406;-118.4487839
X-APPLE-STRUCTURED-LOCATION;VALUE=URI;X-ADDRESS=Zev Yaroslavsky Family Support Center 7555 Van Nuys Boulevard Van Nuys 91405;X-APPLE-RADIUS=500;X-TITLE=7555 Van Nuys Boulevard:geo:-118.4487839,34.2082406
END:VEVENT
BEGIN:VEVENT
DTSTART;TZID=America/Los_Angeles:20191113T150000
DTEND;TZID=America/Los_Angeles:20191113T170000
DTSTAMP:20260423T212716
CREATED:20191105T171512Z
LAST-MODIFIED:20191105T171512Z
UID:8914-1573657200-1573664400@nohowest.org
SUMMARY:Homeless Services Listening Session
DESCRIPTION:The Los Angeles County Homeless Initiative is seeking your input on how they should be using your local Measure H tax dollars and additional State funding to combat and prevent homelessness. Each session is an opportunity for you to weigh in on what is working well\, what gaps exist\, and the most effective ways to use this funding. Everyone is welcome and encouraged to share their insights and recommendations on how they should be investing this funding to solve our homelessness crisis.
URL:https://nohowest.org/calendar/homeless-services-listening-session/
LOCATION:Zev Yaroslavsky Family Support Center\, 7555 Van Nuys Boulevard\, Van Nuys\, 91405
CATEGORIES:Community Events
GEO:34.2082406;-118.4487839
X-APPLE-STRUCTURED-LOCATION;VALUE=URI;X-ADDRESS=Zev Yaroslavsky Family Support Center 7555 Van Nuys Boulevard Van Nuys 91405;X-APPLE-RADIUS=500;X-TITLE=7555 Van Nuys Boulevard:geo:-118.4487839,34.2082406
END:VEVENT
BEGIN:VEVENT
DTSTART;TZID=America/Los_Angeles:20180228T130000
DTEND;TZID=America/Los_Angeles:20180228T163000
DTSTAMP:20260423T212716
CREATED:20180207T000243Z
LAST-MODIFIED:20180207T000243Z
UID:7403-1519822800-1519835400@nohowest.org
SUMMARY:Homeless Count Debrief Session
DESCRIPTION:This is a Los Angeles Homeless Services Authority meeting. \nZev Yaroslavsky Family Support Center\n7555 Van Nuys Blvd\nVan Nuys\, CA 91405\nWednesday\, February 28\, 2018\n1:00 pm –2:15pm(SFVHC)\n2:15 pm –4:30 pm (LA CoC Quarterly Meeting)
URL:https://nohowest.org/calendar/homeless-count-debrief-session/
LOCATION:Zev Yaroslavsky Family Support Center\, 7555 Van Nuys Boulevard\, Van Nuys\, 91405
CATEGORIES:Community Events
GEO:34.2082406;-118.4487839
X-APPLE-STRUCTURED-LOCATION;VALUE=URI;X-ADDRESS=Zev Yaroslavsky Family Support Center 7555 Van Nuys Boulevard Van Nuys 91405;X-APPLE-RADIUS=500;X-TITLE=7555 Van Nuys Boulevard:geo:-118.4487839,34.2082406
END:VEVENT
BEGIN:VEVENT
DTSTART;TZID=America/Los_Angeles:20170918T083000
DTEND;TZID=America/Los_Angeles:20170918T110000
DTSTAMP:20260423T212716
CREATED:20170912T153730Z
LAST-MODIFIED:20170912T153928Z
UID:6727-1505723400-1505732400@nohowest.org
SUMMARY:East Valley's Transit Future with Metro Public Hearings
DESCRIPTION:LOS ANGELES – Metro wants to hear from you! This week\, Metro released the Draft Environmental Impact Report for the East San Fernando Valley Transit Corridor Project\, which aims to improve transit along Van Nuys Boulevard and San Fernando Road between the Metro Orange Line Van Nuys Station and the Sylmar/San Fernando Metrolink Station.\n\nDuring a 45-day public comment period\, the transit agency will be hosting a series of meetings to hear feedback from community members and offer more insight and information about the corridor’s four potential transit plans: curb-running bus rapid transit\, median-running bus rapid transit\, low-floor light rail transit\, or light rail transit. Here’s a list of upcoming meetings:\n\n\nThursday\, Sept. 14\, 6 pm – 8 pm\nCity of San Fernando Regional Pool Facility\n208 Park Avenue\, San Fernando\, CA 91340\nLive webcast at 6:30 pm at www.ustream.tv/channel/eastsfv\nMonday\, Sept. 18\, 8:30 am – 11 am\nZev Yaroslavsky Family Support Center\n7555 Van Nuys Boulevard\, Van Nuys\, CA 91405\nMonday\, Sept. 18\, 5 pm – 8 pm\nValley Municipal Building\, Council Chambers\n14410 Sylvan Street\, 2nd Floor\, Van Nuys\, CA 91401\nWednesday\, Sept. 20\, 9 am – 11:30 am\nPacoima Charter Elementary School Auditorium\n11016 Norris Avenue\, Pacoima\, CA 91331\n(please enter on Herrick Av)\nSaturday\, Sept. 23\, 9 am – 12 pm\nSt. Mark’s Episcopal Church\n14646 Sherman Way\, Van Nuys\, CA 91405\n\nAfter the Orange Line\, Van Nuys Boulevard has the second highest transit boardings in the San Fernando Valley\, with an average of nearly 25\,000 passenger boardings on Metro buses daily. Measure M earmarks $1.3 billion for the 9.2 mile East San Fernando Valley Transit Corridor. The project will increase regional connectivity and help Angelenos get to their destinations with more ease and efficiency.\n\nTo learn more about the project and view the Draft Environmental Impact Report visit www.metro.net/eastsfvtransit. Comments must be submitted by Oct. 16. If you’re unable to attend the meetings listed above\, send your comments to eastsfvtransit@metro.net.
URL:https://nohowest.org/calendar/east-valleys-transit-future-with-metro-public-hearings/
LOCATION:Zev Yaroslavsky Family Support Center\, 7555 Van Nuys Boulevard\, Van Nuys\, 91405
CATEGORIES:Community Events
GEO:34.2082406;-118.4487839
X-APPLE-STRUCTURED-LOCATION;VALUE=URI;X-ADDRESS=Zev Yaroslavsky Family Support Center 7555 Van Nuys Boulevard Van Nuys 91405;X-APPLE-RADIUS=500;X-TITLE=7555 Van Nuys Boulevard:geo:-118.4487839,34.2082406
END:VEVENT
END:VCALENDAR